BEGIN:VCALENDAR
VERSION:2.0
PRODID:-//Flax - ECPv5.14.0.1//NONSGML v1.0//EN
CALSCALE:GREGORIAN
METHOD:PUBLISH
X-WR-CALNAME:Flax
X-ORIGINAL-URL:https://flaxgifhorn.de
X-WR-CALDESC:Flax için etkinlikler
REFRESH-INTERVAL;VALUE=DURATION:PT1H
X-Robots-Tag:noindex
X-PUBLISHED-TTL:PT1H
BEGIN:VTIMEZONE
TZID:UTC
BEGIN:STANDARD
TZOFFSETFROM:+0000
TZOFFSETTO:+0000
TZNAME:UTC
DTSTART:20220101T000000
END:STANDARD
END:VTIMEZONE
BEGIN:VEVENT
DTSTART;TZID=UTC:20220901T080000
DTEND;TZID=UTC:20220901T080000
DTSTAMP:20260421T231154
CREATED:20190820T033649Z
LAST-MODIFIED:20250827T215528Z
UID:90-1662019200-1662019200@flaxgifhorn.de
SUMMARY:Flax Night
DESCRIPTION:https://flaxgifhorn.de/wp-content/uploads/2019/08/VID-20250828-WA0000.mp4\n 
URL:https://flaxgifhorn.de/event/vip-taster-sessions/
LOCATION:Flax\, Braunschweiger Str. 3A\, Gifhorn\, 38518\, Germany
CATEGORIES:Guest List
ATTACH;FMTTYPE=image/jpeg:https://flaxgifhorn.de/wp-content/uploads/2019/08/avada-nightclub-events-3.jpg
END:VEVENT
END:VCALENDAR