BEGIN:VCALENDAR
VERSION:2.0
PRODID:-//Flax - ECPv5.14.0.1//NONSGML v1.0//EN
CALSCALE:GREGORIAN
METHOD:PUBLISH
X-WR-CALNAME:Flax
X-ORIGINAL-URL:https://flaxgifhorn.de
X-WR-CALDESC:Flax için etkinlikler
REFRESH-INTERVAL;VALUE=DURATION:PT1H
X-Robots-Tag:noindex
X-PUBLISHED-TTL:PT1H
BEGIN:VTIMEZONE
TZID:Europe/Berlin
BEGIN:DAYLIGHT
TZOFFSETFROM:+0100
TZOFFSETTO:+0200
TZNAME:CEST
DTSTART:20220327T010000
END:DAYLIGHT
BEGIN:STANDARD
TZOFFSETFROM:+0200
TZOFFSETTO:+0100
TZNAME:CET
DTSTART:20221030T010000
END:STANDARD
END:VTIMEZONE
BEGIN:VEVENT
DTSTART;TZID=Europe/Berlin:20220305T203000
DTEND;TZID=Europe/Berlin:20220306T050000
DTSTAMP:20260422T063512
CREATED:20190822T071920Z
LAST-MODIFIED:20220222T203232Z
UID:147-1646512200-1646542800@flaxgifhorn.de
SUMMARY:Irish Night
DESCRIPTION:Irish Night
URL:https://flaxgifhorn.de/event/urban-vibes/
LOCATION:Flax\, Braunschweiger Str. 3A\, Gifhorn\, 38518\, Germany
ATTACH;FMTTYPE=image/jpeg:https://flaxgifhorn.de/wp-content/uploads/2019/08/avada-nightclub-events-1.jpg
END:VEVENT
END:VCALENDAR